BEGIN:VCALENDAR
VERSION:2.0
PRODID:-//aile running club - ECPv6.3.5//NONSGML v1.0//EN
CALSCALE:GREGORIAN
METHOD:PUBLISH
X-WR-CALNAME:aile running club
X-ORIGINAL-URL:https://ailerunning.club
X-WR-CALDESC:aile running club のイベント
REFRESH-INTERVAL;VALUE=DURATION:PT1H
X-Robots-Tag:noindex
X-PUBLISHED-TTL:PT1H
BEGIN:VTIMEZONE
TZID:Asia/Tokyo
BEGIN:STANDARD
TZOFFSETFROM:+0900
TZOFFSETTO:+0900
TZNAME:JST
DTSTART:20240101T000000
END:STANDARD
END:VTIMEZONE
BEGIN:VEVENT
DTSTART;TZID=Asia/Tokyo:20250929T193000
DTEND;TZID=Asia/Tokyo:20250929T210000
DTSTAMP:20260420T223114
CREATED:20250831T044553Z
LAST-MODIFIED:20250831T044553Z
UID:585-1759174200-1759179600@ailerunning.club
SUMMARY:福岡・大濠シニア練習会
DESCRIPTION:
URL:https://ailerunning.club/event/tribe_events-0/
LOCATION:大濠公園 宝亭\, 1-1\, 福岡市中央区大濠公園\, 福岡県
END:VEVENT
BEGIN:VEVENT
DTSTART;TZID=Asia/Tokyo:20250926T193000
DTEND;TZID=Asia/Tokyo:20250926T210000
DTSTAMP:20260420T223114
CREATED:20250831T044553Z
LAST-MODIFIED:20250831T044553Z
UID:584-1758915000-1758920400@ailerunning.club
SUMMARY:福岡・大濠シニア練習会
DESCRIPTION:
URL:https://ailerunning.club/event/tribe_events-0/
LOCATION:大濠公園 宝亭\, 1-1\, 福岡市中央区大濠公園\, 福岡県
END:VEVENT
BEGIN:VEVENT
DTSTART;TZID=Asia/Tokyo:20250925T193000
DTEND;TZID=Asia/Tokyo:20250925T210000
DTSTAMP:20260420T223114
CREATED:20250831T045304Z
LAST-MODIFIED:20250831T045304Z
UID:595-1758828600-1758834000@ailerunning.club
SUMMARY:福岡・大濠ビギナークラス
DESCRIPTION:
URL:https://ailerunning.club/event/tribe_events-0-27/
LOCATION:大濠公園 宝亭\, 1-1\, 福岡市中央区大濠公園\, 福岡県
END:VEVENT
BEGIN:VEVENT
DTSTART;TZID=Asia/Tokyo:20250924T193000
DTEND;TZID=Asia/Tokyo:20250924T210000
DTSTAMP:20260420T223114
CREATED:20250831T044553Z
LAST-MODIFIED:20250831T044553Z
UID:583-1758742200-1758747600@ailerunning.club
SUMMARY:福岡・大濠シニア練習会
DESCRIPTION:
URL:https://ailerunning.club/event/tribe_events-0/
LOCATION:福岡県
END:VEVENT
BEGIN:VEVENT
DTSTART;TZID=Asia/Tokyo:20250923T193000
DTEND;TZID=Asia/Tokyo:20250923T210000
DTSTAMP:20260420T223114
CREATED:20250831T045304Z
LAST-MODIFIED:20250831T045304Z
UID:594-1758655800-1758661200@ailerunning.club
SUMMARY:福岡・大濠ビギナークラス
DESCRIPTION:
URL:https://ailerunning.club/event/tribe_events-0-26/
LOCATION:大濠公園 宝亭\, 1-1\, 福岡市中央区大濠公園\, 福岡県
END:VEVENT
BEGIN:VEVENT
DTSTART;TZID=Asia/Tokyo:20250922T193000
DTEND;TZID=Asia/Tokyo:20250922T210000
DTSTAMP:20260420T223114
CREATED:20250831T044553Z
LAST-MODIFIED:20250831T044553Z
UID:582-1758569400-1758574800@ailerunning.club
SUMMARY:福岡・大濠シニア練習会
DESCRIPTION:
URL:https://ailerunning.club/event/tribe_events-0/
LOCATION:大濠公園 宝亭\, 1-1\, 福岡市中央区大濠公園\, 福岡県
END:VEVENT
BEGIN:VEVENT
DTSTART;TZID=Asia/Tokyo:20250919T193000
DTEND;TZID=Asia/Tokyo:20250919T210000
DTSTAMP:20260420T223114
CREATED:20250831T045739Z
LAST-MODIFIED:20250831T045739Z
UID:608-1758310200-1758315600@ailerunning.club
SUMMARY:福岡・大濠シニア練習会
DESCRIPTION:
URL:https://ailerunning.club/event/tribe_events-0/
LOCATION:大濠公園 宝亭\, 1-1\, 福岡市中央区大濠公園\, 福岡県
END:VEVENT
BEGIN:VEVENT
DTSTART;TZID=Asia/Tokyo:20250918T193000
DTEND;TZID=Asia/Tokyo:20250918T210000
DTSTAMP:20260420T223114
CREATED:20250831T045303Z
LAST-MODIFIED:20250831T045304Z
UID:593-1758223800-1758229200@ailerunning.club
SUMMARY:福岡・大濠ビギナークラス
DESCRIPTION:
URL:https://ailerunning.club/event/tribe_events-0-25/
LOCATION:大濠公園 宝亭\, 1-1\, 福岡市中央区大濠公園\, 福岡県
END:VEVENT
BEGIN:VEVENT
DTSTART;TZID=Asia/Tokyo:20250917T193000
DTEND;TZID=Asia/Tokyo:20250917T210000
DTSTAMP:20260420T223114
CREATED:20250831T045739Z
LAST-MODIFIED:20250831T045739Z
UID:607-1758137400-1758142800@ailerunning.club
SUMMARY:福岡・大濠シニア練習会
DESCRIPTION:
URL:https://ailerunning.club/event/tribe_events-0/
LOCATION:大濠公園 宝亭\, 1-1\, 福岡市中央区大濠公園\, 福岡県
END:VEVENT
BEGIN:VEVENT
DTSTART;TZID=Asia/Tokyo:20250916T193000
DTEND;TZID=Asia/Tokyo:20250916T210000
DTSTAMP:20260420T223114
CREATED:20250831T045303Z
LAST-MODIFIED:20250831T045303Z
UID:592-1758051000-1758056400@ailerunning.club
SUMMARY:福岡・大濠ビギナークラス
DESCRIPTION:
URL:https://ailerunning.club/event/tribe_events-0/
LOCATION:大濠公園 宝亭\, 1-1\, 福岡市中央区大濠公園\, 福岡県
END:VEVENT
BEGIN:VEVENT
DTSTART;TZID=Asia/Tokyo:20250915T193000
DTEND;TZID=Asia/Tokyo:20250915T210000
DTSTAMP:20260420T223114
CREATED:20250831T045739Z
LAST-MODIFIED:20250831T045739Z
UID:606-1757964600-1757970000@ailerunning.club
SUMMARY:福岡・大濠シニア練習会
DESCRIPTION:
URL:https://ailerunning.club/event/tribe_events-0/
LOCATION:大濠公園 宝亭\, 1-1\, 福岡市中央区大濠公園\, 福岡県
END:VEVENT
BEGIN:VEVENT
DTSTART;TZID=Asia/Tokyo:20250912T193000
DTEND;TZID=Asia/Tokyo:20250912T210000
DTSTAMP:20260420T223114
CREATED:20250831T045739Z
LAST-MODIFIED:20250831T045739Z
UID:605-1757705400-1757710800@ailerunning.club
SUMMARY:福岡・大濠シニア練習会
DESCRIPTION:
URL:https://ailerunning.club/event/tribe_events-0/
LOCATION:福岡県
END:VEVENT
BEGIN:VEVENT
DTSTART;TZID=Asia/Tokyo:20250911T193000
DTEND;TZID=Asia/Tokyo:20250911T210000
DTSTAMP:20260420T223114
CREATED:20250831T045303Z
LAST-MODIFIED:20250831T045303Z
UID:591-1757619000-1757624400@ailerunning.club
SUMMARY:福岡・大濠ビギナークラス
DESCRIPTION:
URL:https://ailerunning.club/event/tribe_events-0/
LOCATION:大濠公園 宝亭\, 1-1\, 福岡市中央区大濠公園\, 福岡県
END:VEVENT
BEGIN:VEVENT
DTSTART;TZID=Asia/Tokyo:20250910T193000
DTEND;TZID=Asia/Tokyo:20250910T210000
DTSTAMP:20260420T223114
CREATED:20250831T045739Z
LAST-MODIFIED:20250831T045739Z
UID:604-1757532600-1757538000@ailerunning.club
SUMMARY:福岡・大濠シニア練習会
DESCRIPTION:
URL:https://ailerunning.club/event/tribe_events-0/
LOCATION:大濠公園 宝亭\, 1-1\, 福岡市中央区大濠公園\, 福岡県
END:VEVENT
BEGIN:VEVENT
DTSTART;TZID=Asia/Tokyo:20250909T193000
DTEND;TZID=Asia/Tokyo:20250909T210000
DTSTAMP:20260420T223114
CREATED:20250831T045302Z
LAST-MODIFIED:20250831T045302Z
UID:590-1757446200-1757451600@ailerunning.club
SUMMARY:福岡・大濠ビギナークラス
DESCRIPTION:
URL:https://ailerunning.club/event/tribe_events-0/
LOCATION:大濠公園 宝亭\, 1-1\, 福岡市中央区大濠公園\, 福岡県
END:VEVENT
BEGIN:VEVENT
DTSTART;TZID=Asia/Tokyo:20250908T193000
DTEND;TZID=Asia/Tokyo:20250908T210000
DTSTAMP:20260420T223114
CREATED:20250831T044552Z
LAST-MODIFIED:20250831T044552Z
UID:581-1757359800-1757365200@ailerunning.club
SUMMARY:福岡・大濠シニア練習会
DESCRIPTION:
URL:https://ailerunning.club/event/tribe_events-0/
LOCATION:大濠公園 宝亭\, 1-1\, 福岡市中央区大濠公園\, 福岡県
END:VEVENT
BEGIN:VEVENT
DTSTART;TZID=Asia/Tokyo:20250905T193000
DTEND;TZID=Asia/Tokyo:20250905T210000
DTSTAMP:20260420T223114
CREATED:20250831T044552Z
LAST-MODIFIED:20250831T044552Z
UID:580-1757100600-1757106000@ailerunning.club
SUMMARY:福岡・大濠シニア練習会
DESCRIPTION:
URL:https://ailerunning.club/event/tribe_events-0/
LOCATION:大濠公園 宝亭\, 1-1\, 福岡市中央区大濠公園\, 福岡県
END:VEVENT
BEGIN:VEVENT
DTSTART;TZID=Asia/Tokyo:20250904T193000
DTEND;TZID=Asia/Tokyo:20250904T210000
DTSTAMP:20260420T223114
CREATED:20250831T045302Z
LAST-MODIFIED:20250831T045302Z
UID:589-1757014200-1757019600@ailerunning.club
SUMMARY:福岡・大濠ビギナークラス
DESCRIPTION:
URL:https://ailerunning.club/event/tribe_events-0/
LOCATION:大濠公園 宝亭\, 1-1\, 福岡市中央区大濠公園\, 福岡県
END:VEVENT
BEGIN:VEVENT
DTSTART;TZID=Asia/Tokyo:20250903T193000
DTEND;TZID=Asia/Tokyo:20250903T210000
DTSTAMP:20260420T223114
CREATED:20250831T044552Z
LAST-MODIFIED:20250831T044552Z
UID:578-1756927800-1756933200@ailerunning.club
SUMMARY:福岡・大濠シニア練習会
DESCRIPTION:
URL:https://ailerunning.club/event/tribe_events-0-24/
LOCATION:大濠公園 宝亭\, 1-1\, 福岡市中央区大濠公園\, 福岡県
END:VEVENT
BEGIN:VEVENT
DTSTART;TZID=Asia/Tokyo:20250902T193000
DTEND;TZID=Asia/Tokyo:20250902T210000
DTSTAMP:20260420T223114
CREATED:20250831T045302Z
LAST-MODIFIED:20250831T045302Z
UID:588-1756841400-1756846800@ailerunning.club
SUMMARY:福岡・大濠ビギナークラス
DESCRIPTION:
URL:https://ailerunning.club/event/tribe_events-0/
LOCATION:大濠公園 宝亭\, 1-1\, 福岡市中央区大濠公園\, 福岡県
END:VEVENT
BEGIN:VEVENT
DTSTART;TZID=Asia/Tokyo:20250901T193000
DTEND;TZID=Asia/Tokyo:20250901T210000
DTSTAMP:20260420T223114
CREATED:20250831T044552Z
LAST-MODIFIED:20250831T044552Z
UID:577-1756755000-1756760400@ailerunning.club
SUMMARY:福岡・大濠シニア練習会
DESCRIPTION:
URL:https://ailerunning.club/event/tribe_events-0/
LOCATION:大濠公園 宝亭\, 1-1\, 福岡市中央区大濠公園\, 福岡県
END:VEVENT
BEGIN:VEVENT
DTSTART;TZID=Asia/Tokyo:20240628T193000
DTEND;TZID=Asia/Tokyo:20240628T210000
DTSTAMP:20260420T223114
CREATED:20240603T010319Z
LAST-MODIFIED:20240603T010319Z
UID:321-1719603000-1719608400@ailerunning.club
SUMMARY:シニア練習会
DESCRIPTION:
URL:https://ailerunning.club/event/tribe_events-321/
LOCATION:福岡県
END:VEVENT
BEGIN:VEVENT
DTSTART;TZID=Asia/Tokyo:20240628T173000
DTEND;TZID=Asia/Tokyo:20240628T190000
DTSTAMP:20260420T223114
CREATED:20240603T010838Z
LAST-MODIFIED:20240603T010900Z
UID:342-1719595800-1719601200@ailerunning.club
SUMMARY:ジュニア練習会
DESCRIPTION:
URL:https://ailerunning.club/event/tribe_events-342/
LOCATION:平和台陸上競技場\, 1-4\, 福岡市中央区城内\, 福岡県\, 日本
END:VEVENT
BEGIN:VEVENT
DTSTART;TZID=Asia/Tokyo:20240627T173000
DTEND;TZID=Asia/Tokyo:20240627T183000
DTSTAMP:20260420T223114
CREATED:20240604T041407Z
LAST-MODIFIED:20240604T041407Z
UID:359-1719509400-1719513000@ailerunning.club
SUMMARY:キッズ練習会
DESCRIPTION:
URL:https://ailerunning.club/event/tribe_events-0-23/
LOCATION:平和台陸上競技場\, 1-4\, 福岡市中央区城内\, 福岡県\, 日本
END:VEVENT
BEGIN:VEVENT
DTSTART;TZID=Asia/Tokyo:20240626T193000
DTEND;TZID=Asia/Tokyo:20240626T210000
DTSTAMP:20260420T223114
CREATED:20240603T010106Z
LAST-MODIFIED:20240603T010201Z
UID:319-1719430200-1719435600@ailerunning.club
SUMMARY:シニア練習会
DESCRIPTION:
URL:https://ailerunning.club/event/tribe_events-319/
LOCATION:大濠公園 宝亭\, 1-1\, 福岡市中央区大濠公園\, 福岡県
END:VEVENT
BEGIN:VEVENT
DTSTART;TZID=Asia/Tokyo:20240626T173000
DTEND;TZID=Asia/Tokyo:20240626T190000
DTSTAMP:20260420T223114
CREATED:20240603T010807Z
LAST-MODIFIED:20240603T010807Z
UID:340-1719423000-1719428400@ailerunning.club
SUMMARY:ジュニア練習会
DESCRIPTION:
URL:https://ailerunning.club/event/tribe_events-340/
LOCATION:平和台陸上競技場\, 1-4\, 福岡市中央区城内\, 福岡県\, 日本
END:VEVENT
BEGIN:VEVENT
DTSTART;TZID=Asia/Tokyo:20240625T173000
DTEND;TZID=Asia/Tokyo:20240625T183000
DTSTAMP:20260420T223114
CREATED:20240604T041407Z
LAST-MODIFIED:20240604T041407Z
UID:358-1719336600-1719340200@ailerunning.club
SUMMARY:キッズ練習会
DESCRIPTION:
URL:https://ailerunning.club/event/tribe_events-0-22/
LOCATION:平和台陸上競技場\, 1-4\, 福岡市中央区城内\, 福岡県\, 日本
END:VEVENT
BEGIN:VEVENT
DTSTART;TZID=Asia/Tokyo:20240624T193000
DTEND;TZID=Asia/Tokyo:20240624T210000
DTSTAMP:20260420T223114
CREATED:20240603T005733Z
LAST-MODIFIED:20240603T005733Z
UID:313-1719257400-1719262800@ailerunning.club
SUMMARY:シニア練習会
DESCRIPTION:
URL:https://ailerunning.club/event/tribe_events-0-15/
LOCATION:大濠公園 宝亭\, 1-1\, 福岡市中央区大濠公園\, 福岡県
END:VEVENT
BEGIN:VEVENT
DTSTART;TZID=Asia/Tokyo:20240624T173000
DTEND;TZID=Asia/Tokyo:20240624T190000
DTSTAMP:20260420T223114
CREATED:20240603T010641Z
LAST-MODIFIED:20240603T010641Z
UID:334-1719250200-1719255600@ailerunning.club
SUMMARY:ジュニア練習会
DESCRIPTION:
URL:https://ailerunning.club/event/tribe_events-0-20/
LOCATION:平和台陸上競技場\, 1-4\, 福岡市中央区城内\, 福岡県\, 日本
END:VEVENT
BEGIN:VEVENT
DTSTART;TZID=Asia/Tokyo:20240621T193000
DTEND;TZID=Asia/Tokyo:20240621T210000
DTSTAMP:20260420T223114
CREATED:20240603T005733Z
LAST-MODIFIED:20240603T005733Z
UID:312-1718998200-1719003600@ailerunning.club
SUMMARY:シニア練習会
DESCRIPTION:
URL:https://ailerunning.club/event/tribe_events-0-14/
LOCATION:福岡県
END:VEVENT
END:VCALENDAR